BEGIN:VCALENDAR
VERSION:2.0
PRODID:-//CAIS - ECPv6.15.11//NONSGML v1.0//EN
CALSCALE:GREGORIAN
METHOD:PUBLISH
X-WR-CALNAME:CAIS
X-ORIGINAL-URL:https://www.cais.org
X-WR-CALDESC:Events for CAIS
REFRESH-INTERVAL;VALUE=DURATION:PT1H
X-Robots-Tag:noindex
X-PUBLISHED-TTL:PT1H
BEGIN:VTIMEZONE
TZID:America/Denver
BEGIN:DAYLIGHT
TZOFFSETFROM:-0700
TZOFFSETTO:-0600
TZNAME:MDT
DTSTART:20210314T090000
END:DAYLIGHT
BEGIN:STANDARD
TZOFFSETFROM:-0600
TZOFFSETTO:-0700
TZNAME:MST
DTSTART:20211107T080000
END:STANDARD
BEGIN:DAYLIGHT
TZOFFSETFROM:-0700
TZOFFSETTO:-0600
TZNAME:MDT
DTSTART:20220313T090000
END:DAYLIGHT
BEGIN:STANDARD
TZOFFSETFROM:-0600
TZOFFSETTO:-0700
TZNAME:MST
DTSTART:20221106T080000
END:STANDARD
BEGIN:DAYLIGHT
TZOFFSETFROM:-0700
TZOFFSETTO:-0600
TZNAME:MDT
DTSTART:20230312T090000
END:DAYLIGHT
BEGIN:STANDARD
TZOFFSETFROM:-0600
TZOFFSETTO:-0700
TZNAME:MST
DTSTART:20231105T080000
END:STANDARD
END:VTIMEZONE
BEGIN:VEVENT
DTSTART;VALUE=DATE:20220610
DTEND;VALUE=DATE:20220611
DTSTAMP:20260421T024144
CREATED:20220606T145945Z
LAST-MODIFIED:20220606T145945Z
UID:1880-1654819200-1654905599@www.cais.org
SUMMARY:Last Day of School (Early Dismissal)
DESCRIPTION:
URL:https://www.cais.org/calendar/last-day-of-school-early-dismissal/
CATEGORIES:Schoolwide Events
END:VEVENT
BEGIN:VEVENT
DTSTART;TZID=America/Denver:20220611T100000
DTEND;TZID=America/Denver:20220611T140000
DTSTAMP:20260421T024144
CREATED:20220606T145843Z
LAST-MODIFIED:20220606T145858Z
UID:1878-1654941600-1654956000@www.cais.org
SUMMARY:FSA End of Year Picnic @ 19th Ave Campus
DESCRIPTION:
URL:https://www.cais.org/calendar/fsa-end-of-year-picnic-19th-ave-campus/
CATEGORIES:Schoolwide Events
END:VEVENT
END:VCALENDAR