BEGIN:VCALENDAR
VERSION:2.0
PRODID:-//CAIS - ECPv6.15.11//NONSGML v1.0//EN
CALSCALE:GREGORIAN
METHOD:PUBLISH
X-WR-CALNAME:CAIS
X-ORIGINAL-URL:https://www.cais.org
X-WR-CALDESC:Events for CAIS
REFRESH-INTERVAL;VALUE=DURATION:PT1H
X-Robots-Tag:noindex
X-PUBLISHED-TTL:PT1H
BEGIN:VTIMEZONE
TZID:America/Denver
BEGIN:DAYLIGHT
TZOFFSETFROM:-0700
TZOFFSETTO:-0600
TZNAME:MDT
DTSTART:20210314T090000
END:DAYLIGHT
BEGIN:STANDARD
TZOFFSETFROM:-0600
TZOFFSETTO:-0700
TZNAME:MST
DTSTART:20211107T080000
END:STANDARD
BEGIN:DAYLIGHT
TZOFFSETFROM:-0700
TZOFFSETTO:-0600
TZNAME:MDT
DTSTART:20220313T090000
END:DAYLIGHT
BEGIN:STANDARD
TZOFFSETFROM:-0600
TZOFFSETTO:-0700
TZNAME:MST
DTSTART:20221106T080000
END:STANDARD
BEGIN:DAYLIGHT
TZOFFSETFROM:-0700
TZOFFSETTO:-0600
TZNAME:MDT
DTSTART:20230312T090000
END:DAYLIGHT
BEGIN:STANDARD
TZOFFSETFROM:-0600
TZOFFSETTO:-0700
TZNAME:MST
DTSTART:20231105T080000
END:STANDARD
END:VTIMEZONE
BEGIN:VTIMEZONE
TZID:America/Los_Angeles
BEGIN:DAYLIGHT
TZOFFSETFROM:-0800
TZOFFSETTO:-0700
TZNAME:PDT
DTSTART:20210314T100000
END:DAYLIGHT
BEGIN:STANDARD
TZOFFSETFROM:-0700
TZOFFSETTO:-0800
TZNAME:PST
DTSTART:20211107T090000
END:STANDARD
BEGIN:DAYLIGHT
TZOFFSETFROM:-0800
TZOFFSETTO:-0700
TZNAME:PDT
DTSTART:20220313T100000
END:DAYLIGHT
BEGIN:STANDARD
TZOFFSETFROM:-0700
TZOFFSETTO:-0800
TZNAME:PST
DTSTART:20221106T090000
END:STANDARD
BEGIN:DAYLIGHT
TZOFFSETFROM:-0800
TZOFFSETTO:-0700
TZNAME:PDT
DTSTART:20230312T100000
END:DAYLIGHT
BEGIN:STANDARD
TZOFFSETFROM:-0700
TZOFFSETTO:-0800
TZNAME:PST
DTSTART:20231105T090000
END:STANDARD
END:VTIMEZONE
BEGIN:VEVENT
DTSTART;VALUE=DATE:20221006
DTEND;VALUE=DATE:20221007
DTSTAMP:20260420T190511
CREATED:20220628T195046Z
LAST-MODIFIED:20220628T195756Z
UID:3571-1665014400-1665100799@www.cais.org
SUMMARY:In-Service Day - No School / Mini-Camp Available
DESCRIPTION:
URL:https://www.cais.org/calendar/in-service-days-no-school-mini-camp-available/
CATEGORIES:Schoolwide Events
END:VEVENT
BEGIN:VEVENT
DTSTART;VALUE=DATE:20221007
DTEND;VALUE=DATE:20221008
DTSTAMP:20260420T190511
CREATED:20220628T195821Z
LAST-MODIFIED:20220628T195821Z
UID:3578-1665100800-1665187199@www.cais.org
SUMMARY:In-Service Day - No School / Mini-Camp Available
DESCRIPTION:
URL:https://www.cais.org/calendar/in-service-day-no-school-mini-camp-available-2/
CATEGORIES:Schoolwide Events
END:VEVENT
BEGIN:VEVENT
DTSTART;VALUE=DATE:20221010
DTEND;VALUE=DATE:20221011
DTSTAMP:20260420T190511
CREATED:20220628T195150Z
LAST-MODIFIED:20220628T195150Z
UID:3573-1665360000-1665446399@www.cais.org
SUMMARY:Indigenous Peoples' Day - No School\, No Childcare
DESCRIPTION:
URL:https://www.cais.org/calendar/indigenous-peoples-day-no-school-no-childcare/
CATEGORIES:Schoolwide Events
END:VEVENT
BEGIN:VEVENT
DTSTART;TZID=America/Los_Angeles:20221012T180000
DTEND;TZID=America/Los_Angeles:20221012T193000
DTSTAMP:20260420T190511
CREATED:20220912T230442Z
LAST-MODIFIED:20220912T230442Z
UID:4996-1665597600-1665603000@www.cais.org
SUMMARY:Parent Workshop with Power of Zero’s “No Bully” Experts
DESCRIPTION:
URL:https://www.cais.org/calendar/parent-workshop-with-power-of-zeros-no-bully-experts/
LOCATION:888 Turk Street\, San Francisco\, CA\, 888 Turk Street\, San Francisco\, CA\, 94102\, United States
CATEGORIES:Schoolwide Events
END:VEVENT
BEGIN:VEVENT
DTSTART;VALUE=DATE:20221024
DTEND;VALUE=DATE:20221025
DTSTAMP:20260420T190511
CREATED:20220628T195708Z
LAST-MODIFIED:20220628T195708Z
UID:3575-1666569600-1666655999@www.cais.org
SUMMARY:In-Service Day - No School\, Mini-Camp Available
DESCRIPTION:
URL:https://www.cais.org/calendar/in-service-day-no-school-mini-camp-available/
CATEGORIES:Schoolwide Events
END:VEVENT
BEGIN:VEVENT
DTSTART;TZID=America/Los_Angeles:20221026T070000
DTEND;TZID=America/Los_Angeles:20221026T201500
DTSTAMP:20260420T190511
CREATED:20220914T231327Z
LAST-MODIFIED:20220914T231327Z
UID:5047-1666767600-1666815300@www.cais.org
SUMMARY:In-Person SPEAK Event: Kelly Corrigan on the Three Tales of Parenthood
DESCRIPTION:Hosted at The Hamlin School. Admission is free to CAIS parents and guardians.
URL:https://www.cais.org/calendar/in-person-speak-event-kelly-corrigan-on-the-three-tales-of-parenthood/
CATEGORIES:Schoolwide Events
END:VEVENT
BEGIN:VEVENT
DTSTART;TZID=America/Los_Angeles:20221030T130000
DTEND;TZID=America/Los_Angeles:20221030T160000
DTSTAMP:20260420T190511
CREATED:20221011T213102Z
LAST-MODIFIED:20221011T213102Z
UID:5131-1667134800-1667145600@www.cais.org
SUMMARY:All School Halloween Event at 19th Avenue
DESCRIPTION:The Middle School and Lower School Student Governments are joining with Middle School Athletics to host a Halloween celebration for the whole community at the 19th Avenue campus from 1:00-4:00 p.m. \nDress up and get in some early trick-or-treating\, play some spooky carnival games\, and enter the Haunted House—if you dare! \nAll CAIS students and families are welcome to this event.
URL:https://www.cais.org/calendar/all-school-halloween-event-at-19th-avenue/
CATEGORIES:Schoolwide Events
END:VEVENT
END:VCALENDAR