BEGIN:VCALENDAR
VERSION:2.0
PRODID:-//CAIS - ECPv6.15.11//NONSGML v1.0//EN
CALSCALE:GREGORIAN
METHOD:PUBLISH
X-WR-CALNAME:CAIS
X-ORIGINAL-URL:https://www.cais.org
X-WR-CALDESC:Events for CAIS
REFRESH-INTERVAL;VALUE=DURATION:PT1H
X-Robots-Tag:noindex
X-PUBLISHED-TTL:PT1H
BEGIN:VTIMEZONE
TZID:America/Los_Angeles
BEGIN:DAYLIGHT
TZOFFSETFROM:-0800
TZOFFSETTO:-0700
TZNAME:PDT
DTSTART:20220313T100000
END:DAYLIGHT
BEGIN:STANDARD
TZOFFSETFROM:-0700
TZOFFSETTO:-0800
TZNAME:PST
DTSTART:20221106T090000
END:STANDARD
BEGIN:DAYLIGHT
TZOFFSETFROM:-0800
TZOFFSETTO:-0700
TZNAME:PDT
DTSTART:20230312T100000
END:DAYLIGHT
BEGIN:STANDARD
TZOFFSETFROM:-0700
TZOFFSETTO:-0800
TZNAME:PST
DTSTART:20231105T090000
END:STANDARD
BEGIN:DAYLIGHT
TZOFFSETFROM:-0800
TZOFFSETTO:-0700
TZNAME:PDT
DTSTART:20240310T100000
END:DAYLIGHT
BEGIN:STANDARD
TZOFFSETFROM:-0700
TZOFFSETTO:-0800
TZNAME:PST
DTSTART:20241103T090000
END:STANDARD
END:VTIMEZONE
BEGIN:VTIMEZONE
TZID:America/Los_Angeles
BEGIN:DAYLIGHT
TZOFFSETFROM:-0800
TZOFFSETTO:-0700
TZNAME:PDT
DTSTART:20220313T100000
END:DAYLIGHT
BEGIN:STANDARD
TZOFFSETFROM:-0700
TZOFFSETTO:-0800
TZNAME:PST
DTSTART:20221106T090000
END:STANDARD
BEGIN:DAYLIGHT
TZOFFSETFROM:-0800
TZOFFSETTO:-0700
TZNAME:PDT
DTSTART:20230312T100000
END:DAYLIGHT
BEGIN:STANDARD
TZOFFSETFROM:-0700
TZOFFSETTO:-0800
TZNAME:PST
DTSTART:20231105T090000
END:STANDARD
BEGIN:DAYLIGHT
TZOFFSETFROM:-0800
TZOFFSETTO:-0700
TZNAME:PDT
DTSTART:20240310T100000
END:DAYLIGHT
BEGIN:STANDARD
TZOFFSETFROM:-0700
TZOFFSETTO:-0800
TZNAME:PST
DTSTART:20241103T090000
END:STANDARD
END:VTIMEZONE
BEGIN:VTIMEZONE
TZID:America/Denver
BEGIN:DAYLIGHT
TZOFFSETFROM:-0700
TZOFFSETTO:-0600
TZNAME:MDT
DTSTART:20220313T090000
END:DAYLIGHT
BEGIN:STANDARD
TZOFFSETFROM:-0600
TZOFFSETTO:-0700
TZNAME:MST
DTSTART:20221106T080000
END:STANDARD
BEGIN:DAYLIGHT
TZOFFSETFROM:-0700
TZOFFSETTO:-0600
TZNAME:MDT
DTSTART:20230312T090000
END:DAYLIGHT
BEGIN:STANDARD
TZOFFSETFROM:-0600
TZOFFSETTO:-0700
TZNAME:MST
DTSTART:20231105T080000
END:STANDARD
BEGIN:DAYLIGHT
TZOFFSETFROM:-0700
TZOFFSETTO:-0600
TZNAME:MDT
DTSTART:20240310T090000
END:DAYLIGHT
BEGIN:STANDARD
TZOFFSETFROM:-0600
TZOFFSETTO:-0700
TZNAME:MST
DTSTART:20241103T080000
END:STANDARD
END:VTIMEZONE
BEGIN:VEVENT
DTSTART;TZID=America/Los_Angeles:20230207T103000
DTEND;TZID=America/Los_Angeles:20230207T110500
DTSTAMP:20260420T120145
CREATED:20221129T201940Z
LAST-MODIFIED:20221129T201940Z
UID:6213-1675765800-1675767900@www.cais.org
SUMMARY:Middle School Tour for Current CAIS Parents
DESCRIPTION:
URL:https://www.cais.org/calendar/middle-school-tour-for-current-cais-parents-3/
CATEGORIES:Schoolwide Events
END:VEVENT
BEGIN:VEVENT
DTSTART;TZID=America/Los_Angeles:20230208T190000
DTEND;TZID=America/Los_Angeles:20230208T201500
DTSTAMP:20260420T120145
CREATED:20221212T215345Z
LAST-MODIFIED:20221212T215345Z
UID:6430-1675882800-1675887300@www.cais.org
SUMMARY:Virtual SPEAK Event: Bystander Intervention Training
DESCRIPTION:
URL:https://www.cais.org/calendar/virtual-speak-event-bystander-intervention-training/
CATEGORIES:Schoolwide Events
END:VEVENT
BEGIN:VEVENT
DTSTART;TZID=America/Los_Angeles:20230216T103000
DTEND;TZID=America/Los_Angeles:20230216T110500
DTSTAMP:20260420T120145
CREATED:20221129T201940Z
LAST-MODIFIED:20221129T201940Z
UID:6214-1676543400-1676545500@www.cais.org
SUMMARY:Middle School Tour for Current CAIS Parents
DESCRIPTION:
URL:https://www.cais.org/calendar/middle-school-tour-for-current-cais-parents-4/
CATEGORIES:Schoolwide Events
END:VEVENT
BEGIN:VEVENT
DTSTART;VALUE=DATE:20230220
DTEND;VALUE=DATE:20230221
DTSTAMP:20260420T120145
CREATED:20220628T202026Z
LAST-MODIFIED:20220628T202026Z
UID:3609-1676851200-1676937599@www.cais.org
SUMMARY:Presidents' Day - No School\, No Childcare
DESCRIPTION:
URL:https://www.cais.org/calendar/presidents-day-no-school-no-childcare/
CATEGORIES:Schoolwide Events
END:VEVENT
BEGIN:VEVENT
DTSTART;VALUE=DATE:20230221
DTEND;VALUE=DATE:20230225
DTSTAMP:20260420T120145
CREATED:20220628T202102Z
LAST-MODIFIED:20220628T202102Z
UID:3611-1676937600-1677283199@www.cais.org
SUMMARY:February Break - No School\, Mini-Camp Available
DESCRIPTION:
URL:https://www.cais.org/calendar/february-break-no-school-mini-camp-available/
CATEGORIES:Schoolwide Events
END:VEVENT
BEGIN:VEVENT
DTSTART;TZID=America/Los_Angeles:20230227T103000
DTEND;TZID=America/Los_Angeles:20230227T110500
DTSTAMP:20260420T120145
CREATED:20230203T172525Z
LAST-MODIFIED:20230203T172525Z
UID:6931-1677493800-1677495900@www.cais.org
SUMMARY:Middle School Tour for Current CAIS Parents
DESCRIPTION:
URL:https://www.cais.org/calendar/middle-school-tour-for-current-cais-parents-5/
CATEGORIES:Schoolwide Events
END:VEVENT
END:VCALENDAR