BEGIN:VCALENDAR
VERSION:2.0
PRODID:-//CAIS - ECPv6.15.11//NONSGML v1.0//EN
CALSCALE:GREGORIAN
METHOD:PUBLISH
X-WR-CALNAME:CAIS
X-ORIGINAL-URL:https://www.cais.org
X-WR-CALDESC:Events for CAIS
REFRESH-INTERVAL;VALUE=DURATION:PT1H
X-Robots-Tag:noindex
X-PUBLISHED-TTL:PT1H
BEGIN:VTIMEZONE
TZID:America/Los_Angeles
BEGIN:DAYLIGHT
TZOFFSETFROM:-0800
TZOFFSETTO:-0700
TZNAME:PDT
DTSTART:20220313T100000
END:DAYLIGHT
BEGIN:STANDARD
TZOFFSETFROM:-0700
TZOFFSETTO:-0800
TZNAME:PST
DTSTART:20221106T090000
END:STANDARD
BEGIN:DAYLIGHT
TZOFFSETFROM:-0800
TZOFFSETTO:-0700
TZNAME:PDT
DTSTART:20230312T100000
END:DAYLIGHT
BEGIN:STANDARD
TZOFFSETFROM:-0700
TZOFFSETTO:-0800
TZNAME:PST
DTSTART:20231105T090000
END:STANDARD
BEGIN:DAYLIGHT
TZOFFSETFROM:-0800
TZOFFSETTO:-0700
TZNAME:PDT
DTSTART:20240310T100000
END:DAYLIGHT
BEGIN:STANDARD
TZOFFSETFROM:-0700
TZOFFSETTO:-0800
TZNAME:PST
DTSTART:20241103T090000
END:STANDARD
END:VTIMEZONE
BEGIN:VTIMEZONE
TZID:America/Denver
BEGIN:DAYLIGHT
TZOFFSETFROM:-0700
TZOFFSETTO:-0600
TZNAME:MDT
DTSTART:20220313T090000
END:DAYLIGHT
BEGIN:STANDARD
TZOFFSETFROM:-0600
TZOFFSETTO:-0700
TZNAME:MST
DTSTART:20221106T080000
END:STANDARD
BEGIN:DAYLIGHT
TZOFFSETFROM:-0700
TZOFFSETTO:-0600
TZNAME:MDT
DTSTART:20230312T090000
END:DAYLIGHT
BEGIN:STANDARD
TZOFFSETFROM:-0600
TZOFFSETTO:-0700
TZNAME:MST
DTSTART:20231105T080000
END:STANDARD
BEGIN:DAYLIGHT
TZOFFSETFROM:-0700
TZOFFSETTO:-0600
TZNAME:MDT
DTSTART:20240310T090000
END:DAYLIGHT
BEGIN:STANDARD
TZOFFSETFROM:-0600
TZOFFSETTO:-0700
TZNAME:MST
DTSTART:20241103T080000
END:STANDARD
END:VTIMEZONE
BEGIN:VEVENT
DTSTART;TZID=America/Los_Angeles:20230506T183000
DTEND;TZID=America/Los_Angeles:20230506T235900
DTSTAMP:20260420T065413
CREATED:20220714T204440Z
LAST-MODIFIED:20230502T000323Z
UID:4452-1683397800-1683417540@www.cais.org
SUMMARY:ShowCAIS 2023
DESCRIPTION:
URL:https://www.cais.org/calendar/showcais-2023/
LOCATION:Ritz Carlton\, San Francisco\, 600 Stockston Street\, San Francisco\, CA\, 94108\, United States
CATEGORIES:Schoolwide Events
END:VEVENT
BEGIN:VEVENT
DTSTART;VALUE=DATE:20230512
DTEND;VALUE=DATE:20230513
DTSTAMP:20260420T065413
CREATED:20220628T202709Z
LAST-MODIFIED:20220628T202709Z
UID:3619-1683849600-1683935999@www.cais.org
SUMMARY:In-Service Day - No School\, Mini-Camp Available
DESCRIPTION:
URL:https://www.cais.org/calendar/in-service-day-no-school-mini-camp-available-6/
CATEGORIES:Schoolwide Events
END:VEVENT
BEGIN:VEVENT
DTSTART;TZID=America/Los_Angeles:20230524T080000
DTEND;TZID=America/Los_Angeles:20230524T100000
DTSTAMP:20260420T065413
CREATED:20230421T182947Z
LAST-MODIFIED:20230421T182947Z
UID:7542-1684915200-1684922400@www.cais.org
SUMMARY:Volunteer Appreciation Breakfast
DESCRIPTION:Head of School Jeff Bissell invites all CAIS parents and guardians to enjoy a delicious breakfast and the delightful company of this special community! Wherever and whenever you volunteer—be it in the classroom or the board room\, with admissions or the annual fund\, around campus or on camping trips—CAIS thrives. Bask in the appreciation and cheer on our announcement of this year’s winner of the Philip Butler Smith Volunteer Award. Please join us for this joyful celebration honoring the many ways that parents and guardians make CAIS stronger.
URL:https://www.cais.org/calendar/volunteer-appreciation-breakfast/
LOCATION:888 Turk Street\, San Francisco\, CA\, 888 Turk Street\, San Francisco\, CA\, 94102\, United States
CATEGORIES:Schoolwide Events
END:VEVENT
BEGIN:VEVENT
DTSTART;VALUE=DATE:20230529
DTEND;VALUE=DATE:20230530
DTSTAMP:20260420T065413
CREATED:20220628T202749Z
LAST-MODIFIED:20220628T202749Z
UID:3621-1685318400-1685404799@www.cais.org
SUMMARY:Memorial Day - No School\, No Childcare
DESCRIPTION:
URL:https://www.cais.org/calendar/memorial-day-no-school-no-childcare/
CATEGORIES:Schoolwide Events
END:VEVENT
END:VCALENDAR