BEGIN:VCALENDAR
VERSION:2.0
PRODID:-//CAIS - ECPv6.15.11//NONSGML v1.0//EN
CALSCALE:GREGORIAN
METHOD:PUBLISH
X-WR-CALNAME:CAIS
X-ORIGINAL-URL:https://www.cais.org
X-WR-CALDESC:Events for CAIS
REFRESH-INTERVAL;VALUE=DURATION:PT1H
X-Robots-Tag:noindex
X-PUBLISHED-TTL:PT1H
BEGIN:VTIMEZONE
TZID:America/Los_Angeles
BEGIN:DAYLIGHT
TZOFFSETFROM:-0800
TZOFFSETTO:-0700
TZNAME:PDT
DTSTART:20220313T100000
END:DAYLIGHT
BEGIN:STANDARD
TZOFFSETFROM:-0700
TZOFFSETTO:-0800
TZNAME:PST
DTSTART:20221106T090000
END:STANDARD
BEGIN:DAYLIGHT
TZOFFSETFROM:-0800
TZOFFSETTO:-0700
TZNAME:PDT
DTSTART:20230312T100000
END:DAYLIGHT
BEGIN:STANDARD
TZOFFSETFROM:-0700
TZOFFSETTO:-0800
TZNAME:PST
DTSTART:20231105T090000
END:STANDARD
BEGIN:DAYLIGHT
TZOFFSETFROM:-0800
TZOFFSETTO:-0700
TZNAME:PDT
DTSTART:20240310T100000
END:DAYLIGHT
BEGIN:STANDARD
TZOFFSETFROM:-0700
TZOFFSETTO:-0800
TZNAME:PST
DTSTART:20241103T090000
END:STANDARD
END:VTIMEZONE
BEGIN:VTIMEZONE
TZID:America/Los_Angeles
BEGIN:DAYLIGHT
TZOFFSETFROM:-0800
TZOFFSETTO:-0700
TZNAME:PDT
DTSTART:20220313T100000
END:DAYLIGHT
BEGIN:STANDARD
TZOFFSETFROM:-0700
TZOFFSETTO:-0800
TZNAME:PST
DTSTART:20221106T090000
END:STANDARD
BEGIN:DAYLIGHT
TZOFFSETFROM:-0800
TZOFFSETTO:-0700
TZNAME:PDT
DTSTART:20230312T100000
END:DAYLIGHT
BEGIN:STANDARD
TZOFFSETFROM:-0700
TZOFFSETTO:-0800
TZNAME:PST
DTSTART:20231105T090000
END:STANDARD
BEGIN:DAYLIGHT
TZOFFSETFROM:-0800
TZOFFSETTO:-0700
TZNAME:PDT
DTSTART:20240310T100000
END:DAYLIGHT
BEGIN:STANDARD
TZOFFSETFROM:-0700
TZOFFSETTO:-0800
TZNAME:PST
DTSTART:20241103T090000
END:STANDARD
END:VTIMEZONE
BEGIN:VEVENT
DTSTART;VALUE=DATE:20231005
DTEND;VALUE=DATE:20231006
DTSTAMP:20260419T213955
CREATED:20230207T172059Z
LAST-MODIFIED:20230713T192505Z
UID:6972-1696464000-1696550399@www.cais.org
SUMMARY:In-Service Day - No School\, No Enrichment; Mini-Camp Available
DESCRIPTION:
URL:https://www.cais.org/calendar/in-service-day-no-school-mini-camp-available-7/
CATEGORIES:Schoolwide Events
END:VEVENT
BEGIN:VEVENT
DTSTART;VALUE=DATE:20231006
DTEND;VALUE=DATE:20231007
DTSTAMP:20260419T213955
CREATED:20230207T172059Z
LAST-MODIFIED:20230713T192454Z
UID:6973-1696550400-1696636799@www.cais.org
SUMMARY:In-Service Day - No School\, No Enrichment; Mini-Camp Available
DESCRIPTION:
URL:https://www.cais.org/calendar/in-service-day-no-school-mini-camp-available-8/
CATEGORIES:Schoolwide Events
END:VEVENT
BEGIN:VEVENT
DTSTART;VALUE=DATE:20231009
DTEND;VALUE=DATE:20231010
DTSTAMP:20260419T213955
CREATED:20230207T172059Z
LAST-MODIFIED:20230713T192611Z
UID:6974-1696809600-1696895999@www.cais.org
SUMMARY:Indigenous People's Day - No School\, No Childcare\, No Enrichment
DESCRIPTION:
URL:https://www.cais.org/calendar/indigenous-peoples-day-no-school-no-childcare-2/
CATEGORIES:Schoolwide Events
END:VEVENT
BEGIN:VEVENT
DTSTART;TZID=America/Los_Angeles:20231012T170000
DTEND;TZID=America/Los_Angeles:20231012T170000
DTSTAMP:20260419T213955
CREATED:20231003T231751Z
LAST-MODIFIED:20231003T231751Z
UID:8973-1697130000-1697130000@www.cais.org
SUMMARY:CAIS Critical Conversations: Unpacking AI (Zoom Presentation)
DESCRIPTION:Speaker Bio: Dr. Vivienne Ming \nRegistration
URL:https://www.cais.org/calendar/cais-critical-conversations-unpacking-ai-zoom-presentation/
CATEGORIES:Schoolwide Events
END:VEVENT
END:VCALENDAR