BEGIN:VCALENDAR
VERSION:2.0
PRODID:-//CAIS - ECPv6.15.11//NONSGML v1.0//EN
CALSCALE:GREGORIAN
METHOD:PUBLISH
X-WR-CALNAME:CAIS
X-ORIGINAL-URL:https://www.cais.org
X-WR-CALDESC:Events for CAIS
REFRESH-INTERVAL;VALUE=DURATION:PT1H
X-Robots-Tag:noindex
X-PUBLISHED-TTL:PT1H
BEGIN:VTIMEZONE
TZID:America/Los_Angeles
BEGIN:DAYLIGHT
TZOFFSETFROM:-0800
TZOFFSETTO:-0700
TZNAME:PDT
DTSTART:20220313T100000
END:DAYLIGHT
BEGIN:STANDARD
TZOFFSETFROM:-0700
TZOFFSETTO:-0800
TZNAME:PST
DTSTART:20221106T090000
END:STANDARD
BEGIN:DAYLIGHT
TZOFFSETFROM:-0800
TZOFFSETTO:-0700
TZNAME:PDT
DTSTART:20230312T100000
END:DAYLIGHT
BEGIN:STANDARD
TZOFFSETFROM:-0700
TZOFFSETTO:-0800
TZNAME:PST
DTSTART:20231105T090000
END:STANDARD
BEGIN:DAYLIGHT
TZOFFSETFROM:-0800
TZOFFSETTO:-0700
TZNAME:PDT
DTSTART:20240310T100000
END:DAYLIGHT
BEGIN:STANDARD
TZOFFSETFROM:-0700
TZOFFSETTO:-0800
TZNAME:PST
DTSTART:20241103T090000
END:STANDARD
END:VTIMEZONE
BEGIN:VTIMEZONE
TZID:America/Los_Angeles
BEGIN:DAYLIGHT
TZOFFSETFROM:-0800
TZOFFSETTO:-0700
TZNAME:PDT
DTSTART:20220313T100000
END:DAYLIGHT
BEGIN:STANDARD
TZOFFSETFROM:-0700
TZOFFSETTO:-0800
TZNAME:PST
DTSTART:20221106T090000
END:STANDARD
BEGIN:DAYLIGHT
TZOFFSETFROM:-0800
TZOFFSETTO:-0700
TZNAME:PDT
DTSTART:20230312T100000
END:DAYLIGHT
BEGIN:STANDARD
TZOFFSETFROM:-0700
TZOFFSETTO:-0800
TZNAME:PST
DTSTART:20231105T090000
END:STANDARD
BEGIN:DAYLIGHT
TZOFFSETFROM:-0800
TZOFFSETTO:-0700
TZNAME:PDT
DTSTART:20240310T100000
END:DAYLIGHT
BEGIN:STANDARD
TZOFFSETFROM:-0700
TZOFFSETTO:-0800
TZNAME:PST
DTSTART:20241103T090000
END:STANDARD
END:VTIMEZONE
BEGIN:VEVENT
DTSTART;TZID=America/Los_Angeles:20231101T190000
DTEND;TZID=America/Los_Angeles:20231101T201500
DTSTAMP:20260419T195040
CREATED:20230830T214239Z
LAST-MODIFIED:20230919T143525Z
UID:8455-1698865200-1698869700@www.cais.org
SUMMARY:SPEAK Event featuring Dr. Jean Clinton and Lisa Rothman (NEW DATE)
DESCRIPTION:Dr. Jean Clinton will be presenting on “Rupture and Repair: How to Reconnect after Conflict.” \nLocation: Cathedral School
URL:https://www.cais.org/calendar/speak-event-featuring-dr-jean-clinton/
CATEGORIES:Schoolwide Events
END:VEVENT
BEGIN:VEVENT
DTSTART;VALUE=DATE:20231103
DTEND;VALUE=DATE:20231104
DTSTAMP:20260419T195040
CREATED:20230207T172059Z
LAST-MODIFIED:20230713T192714Z
UID:6975-1698969600-1699055999@www.cais.org
SUMMARY:K-5 Parent Teacher Conference - No School\, No Enrichment; Mini-Camp Available
DESCRIPTION:
URL:https://www.cais.org/calendar/k-5-parent-teacher-conference-no-school-mini-camp-available/
CATEGORIES:Schoolwide Events
END:VEVENT
BEGIN:VEVENT
DTSTART;TZID=America/Los_Angeles:20231106T180000
DTEND;TZID=America/Los_Angeles:20231106T200000
DTSTAMP:20260419T195040
CREATED:20231003T214233Z
LAST-MODIFIED:20231003T214233Z
UID:8963-1699293600-1699300800@www.cais.org
SUMMARY:Board & Bubbly
DESCRIPTION:Save-the-Date for New Families since 2020
URL:https://www.cais.org/calendar/board-bubbly/
LOCATION:888 Turk Street\, San Francisco\, CA\, 888 Turk Street\, San Francisco\, CA\, 94102\, United States
CATEGORIES:Schoolwide Events
END:VEVENT
BEGIN:VEVENT
DTSTART;VALUE=DATE:20231120
DTEND;VALUE=DATE:20231125
DTSTAMP:20260419T195040
CREATED:20230713T193053Z
LAST-MODIFIED:20230713T193053Z
UID:8212-1700438400-1700870399@www.cais.org
SUMMARY:Thanksgiving Break - No School\, No Childcare\, No Enrichment
DESCRIPTION:
URL:https://www.cais.org/calendar/thanksgiving-break-no-school-no-childcare-no-enrichment/
CATEGORIES:Schoolwide Events
END:VEVENT
END:VCALENDAR