BEGIN:VCALENDAR
VERSION:2.0
PRODID:-//CAIS - ECPv6.15.11//NONSGML v1.0//EN
CALSCALE:GREGORIAN
METHOD:PUBLISH
X-WR-CALNAME:CAIS
X-ORIGINAL-URL:https://www.cais.org
X-WR-CALDESC:Events for CAIS
REFRESH-INTERVAL;VALUE=DURATION:PT1H
X-Robots-Tag:noindex
X-PUBLISHED-TTL:PT1H
BEGIN:VTIMEZONE
TZID:America/Los_Angeles
BEGIN:DAYLIGHT
TZOFFSETFROM:-0800
TZOFFSETTO:-0700
TZNAME:PDT
DTSTART:20220313T100000
END:DAYLIGHT
BEGIN:STANDARD
TZOFFSETFROM:-0700
TZOFFSETTO:-0800
TZNAME:PST
DTSTART:20221106T090000
END:STANDARD
BEGIN:DAYLIGHT
TZOFFSETFROM:-0800
TZOFFSETTO:-0700
TZNAME:PDT
DTSTART:20230312T100000
END:DAYLIGHT
BEGIN:STANDARD
TZOFFSETFROM:-0700
TZOFFSETTO:-0800
TZNAME:PST
DTSTART:20231105T090000
END:STANDARD
BEGIN:DAYLIGHT
TZOFFSETFROM:-0800
TZOFFSETTO:-0700
TZNAME:PDT
DTSTART:20240310T100000
END:DAYLIGHT
BEGIN:STANDARD
TZOFFSETFROM:-0700
TZOFFSETTO:-0800
TZNAME:PST
DTSTART:20241103T090000
END:STANDARD
END:VTIMEZONE
BEGIN:VEVENT
DTSTART;TZID=America/Los_Angeles:20231206T180000
DTEND;TZID=America/Los_Angeles:20231206T190000
DTSTAMP:20260419T175647
CREATED:20231117T164223Z
LAST-MODIFIED:20231117T164223Z
UID:9794-1701885600-1701889200@www.cais.org
SUMMARY:Math Parent Ed
DESCRIPTION:CAIS parents and guardians are invited for a parent education event to learn about the CAIS Math curriculum. At this event\, we will be presenting about CAIS’s work on the immersion world’s first bicultural and bilingual math standards. You will leave this informational session with a deeper understanding of: \n\nCAIS’ Math philosophy\nOur new integrated CAIS math standards\, and the process we used to develop them\nThe research-based best practices that inform our math instruction\nHow students experience math in the classroom\n\nDate: Wednesday\, December 6\, 2023\nTime: 6:00-7:00 p.m.\nLocation: Oak Campus\, 3rd Floor Library
URL:https://www.cais.org/calendar/math-parent-ed/
LOCATION:150 Oak Campus\, 150 Oak Street\, San Francisco\, CA\, 94102\, United States
CATEGORIES:Schoolwide Events
END:VEVENT
BEGIN:VEVENT
DTSTART;TZID=America/Los_Angeles:20231208T060000
DTEND;TZID=America/Los_Angeles:20231208T210000
DTSTAMP:20260419T175647
CREATED:20231117T220407Z
LAST-MODIFIED:20231117T220407Z
UID:9844-1702015200-1702069200@www.cais.org
SUMMARY:Sound of Music Sing-A-Long and Costume Contest
DESCRIPTION:This is a free event\, but space is limited. Reserve your seats here.\n \nThe CAIS Middle School Theater Club invites everyone for a Sound of Music Sing-A-Long on Friday\, December 8 at the 19th Avenue Theater . This epic Rogers and Hammerstein film starring Julie Andrews has a long tradition of being shown during the holiday season. We will be screening an abridged (two-hour) sing-a-long version of this timeless classic with lyrics on the screen for those who don’t know all the words already. Be prepared to have a great time as you sing your hearts out to “My Favorite Things\,” “Do-Re-Mi\,” “Edelweiss\,” “So Long\, Farewell\,” and all the other classics from the movie. In addition to the sing-a-long\, there will be a costume contest before the show hosted by some special guests. Dress up to win in categories such as: Most Original\, Funniest\, and Group Effort.
URL:https://www.cais.org/calendar/sound-of-music-sing-a-long-and-costume-contest/
LOCATION:19th Avenue Campus Theater\, 3250 19th Avenue\, San Francisco\, CA\, 94132\, United States
CATEGORIES:Middle School Event,Schoolwide Events
END:VEVENT
BEGIN:VEVENT
DTSTART;VALUE=DATE:20231215
DTEND;VALUE=DATE:20231216
DTSTAMP:20260419T175647
CREATED:20231003T224616Z
LAST-MODIFIED:20231003T224629Z
UID:8968-1702598400-1702684799@www.cais.org
SUMMARY:Math Kangaroo Early Bird Registration Deadline
DESCRIPTION:MATH KANGAROO REGISTRATION PAGE
URL:https://www.cais.org/calendar/math-kangaroo-early-bird-registration-deadline/
CATEGORIES:Schoolwide Events
END:VEVENT
BEGIN:VEVENT
DTSTART;VALUE=DATE:20231231
DTEND;VALUE=DATE:20240101
DTSTAMP:20260419T175647
CREATED:20231003T224750Z
LAST-MODIFIED:20231003T224750Z
UID:8970-1703980800-1704067199@www.cais.org
SUMMARY:Math Kangaroo Registration Deadline
DESCRIPTION:MATH KANGAROO REGISTRATION PAGE
URL:https://www.cais.org/calendar/math-kangaroo-registration-deadline/
CATEGORIES:Schoolwide Events
END:VEVENT
END:VCALENDAR