BEGIN:VCALENDAR
VERSION:2.0
PRODID:-//CAIS - ECPv6.15.11//NONSGML v1.0//EN
CALSCALE:GREGORIAN
METHOD:PUBLISH
X-WR-CALNAME:CAIS
X-ORIGINAL-URL:https://www.cais.org
X-WR-CALDESC:Events for CAIS
REFRESH-INTERVAL;VALUE=DURATION:PT1H
X-Robots-Tag:noindex
X-PUBLISHED-TTL:PT1H
BEGIN:VTIMEZONE
TZID:America/Los_Angeles
BEGIN:DAYLIGHT
TZOFFSETFROM:-0800
TZOFFSETTO:-0700
TZNAME:PDT
DTSTART:20240310T100000
END:DAYLIGHT
BEGIN:STANDARD
TZOFFSETFROM:-0700
TZOFFSETTO:-0800
TZNAME:PST
DTSTART:20241103T090000
END:STANDARD
BEGIN:DAYLIGHT
TZOFFSETFROM:-0800
TZOFFSETTO:-0700
TZNAME:PDT
DTSTART:20250309T100000
END:DAYLIGHT
BEGIN:STANDARD
TZOFFSETFROM:-0700
TZOFFSETTO:-0800
TZNAME:PST
DTSTART:20251102T090000
END:STANDARD
BEGIN:DAYLIGHT
TZOFFSETFROM:-0800
TZOFFSETTO:-0700
TZNAME:PDT
DTSTART:20260308T100000
END:DAYLIGHT
BEGIN:STANDARD
TZOFFSETFROM:-0700
TZOFFSETTO:-0800
TZNAME:PST
DTSTART:20261101T090000
END:STANDARD
END:VTIMEZONE
BEGIN:VTIMEZONE
TZID:America/Denver
BEGIN:DAYLIGHT
TZOFFSETFROM:-0700
TZOFFSETTO:-0600
TZNAME:MDT
DTSTART:20240310T090000
END:DAYLIGHT
BEGIN:STANDARD
TZOFFSETFROM:-0600
TZOFFSETTO:-0700
TZNAME:MST
DTSTART:20241103T080000
END:STANDARD
BEGIN:DAYLIGHT
TZOFFSETFROM:-0700
TZOFFSETTO:-0600
TZNAME:MDT
DTSTART:20250309T090000
END:DAYLIGHT
BEGIN:STANDARD
TZOFFSETFROM:-0600
TZOFFSETTO:-0700
TZNAME:MST
DTSTART:20251102T080000
END:STANDARD
BEGIN:DAYLIGHT
TZOFFSETFROM:-0700
TZOFFSETTO:-0600
TZNAME:MDT
DTSTART:20260308T090000
END:DAYLIGHT
BEGIN:STANDARD
TZOFFSETFROM:-0600
TZOFFSETTO:-0700
TZNAME:MST
DTSTART:20261101T080000
END:STANDARD
END:VTIMEZONE
BEGIN:VEVENT
DTSTART;VALUE=DATE:20250307
DTEND;VALUE=DATE:20250308
DTSTAMP:20260419T053237
CREATED:20241206T194005Z
LAST-MODIFIED:20241219T184859Z
UID:12269-1741305600-1741391999@www.cais.org
SUMMARY:Grandparents and Special Friends Day
DESCRIPTION:
URL:https://www.cais.org/calendar/grandparents-and-special-friends-day/
LOCATION:3250 19th Avenue\, 3250 19th Avenue\, San Francisco\, CA\, 94132\, United States
CATEGORIES:Schoolwide Events
END:VEVENT
BEGIN:VEVENT
DTSTART;VALUE=DATE:20250310
DTEND;VALUE=DATE:20250312
DTSTAMP:20260419T053237
CREATED:20231117T164746Z
LAST-MODIFIED:20240923T231641Z
UID:9815-1741564800-1741737599@www.cais.org
SUMMARY:In-Service Days (No School\, No Bus\, No Chaperoned Muni\, but Mini Camp is Available)
DESCRIPTION:
URL:https://www.cais.org/calendar/in-service-days-no-school-mini-camp-available-3/
CATEGORIES:Schoolwide Events
END:VEVENT
BEGIN:VEVENT
DTSTART;TZID=America/Los_Angeles:20250312T153000
DTEND;TZID=America/Los_Angeles:20250312T174500
DTSTAMP:20260419T053237
CREATED:20250227T215046Z
LAST-MODIFIED:20250227T215046Z
UID:12915-1741793400-1741801500@www.cais.org
SUMMARY:K-8th Grade Studio Arts Learning Celebration
DESCRIPTION:
URL:https://www.cais.org/calendar/k-8th-grade-studio-arts-learning-celebration/
LOCATION:3250 19th Avenue\, 3250 19th Avenue\, San Francisco\, CA\, 94132\, United States
CATEGORIES:Schoolwide Events
END:VEVENT
BEGIN:VEVENT
DTSTART;TZID=America/Los_Angeles:20250313T160000
DTEND;TZID=America/Los_Angeles:20250313T173000
DTSTAMP:20260419T053237
CREATED:20250211T151625Z
LAST-MODIFIED:20250310T192739Z
UID:12814-1741881600-1741887000@www.cais.org
SUMMARY:CAIS Theater Club Production - The Proxima Paradox
DESCRIPTION:
URL:https://www.cais.org/calendar/cais-theater-club-production-the-proxima-paradox/
LOCATION:CAIS Theater\, 3250 19th Avenue\, San Francisco\, CA\, 94132\, United States
CATEGORIES:Schoolwide Events
END:VEVENT
BEGIN:VEVENT
DTSTART;TZID=America/Los_Angeles:20250314T183000
DTEND;TZID=America/Los_Angeles:20250314T200000
DTSTAMP:20260419T053237
CREATED:20250211T151706Z
LAST-MODIFIED:20250310T192719Z
UID:12816-1741977000-1741982400@www.cais.org
SUMMARY:CAIS Theater Club Production - The Proxima Paradox
DESCRIPTION:
URL:https://www.cais.org/calendar/cais-theater-club-production-the-proxima-paradox-2/
LOCATION:CAIS Theater\, 3250 19th Avenue\, San Francisco\, CA\, 94132\, United States
CATEGORIES:Schoolwide Events
END:VEVENT
BEGIN:VEVENT
DTSTART;VALUE=DATE:20250321
DTEND;VALUE=DATE:20250322
DTSTAMP:20260419T053237
CREATED:20231117T164746Z
LAST-MODIFIED:20240923T232555Z
UID:9816-1742515200-1742601599@www.cais.org
SUMMARY:K-5th Grade Parent Teacher Conferences (No School\, No Bus\, No Chaperoned Muni\, but Mini Camp is Available)
DESCRIPTION:
URL:https://www.cais.org/calendar/k-5th-grade-parent-teacher-conferences-no-school-mini-camp-available-2/
CATEGORIES:Schoolwide Events
END:VEVENT
BEGIN:VEVENT
DTSTART;VALUE=DATE:20250321
DTEND;VALUE=DATE:20250322
DTSTAMP:20260419T053237
CREATED:20231117T164746Z
LAST-MODIFIED:20231117T164746Z
UID:9817-1742515200-1742601599@www.cais.org
SUMMARY:6th-8th Grade Student Led Conferences (No School\, Mini Camp Available)
DESCRIPTION:
URL:https://www.cais.org/calendar/6th-8th-grade-student-led-conferences-no-school-mini-camp-available-3/
CATEGORIES:Schoolwide Events
END:VEVENT
BEGIN:VEVENT
DTSTART;VALUE=DATE:20250328
DTEND;VALUE=DATE:20250329
DTSTAMP:20260419T053237
CREATED:20231117T164801Z
LAST-MODIFIED:20240923T232526Z
UID:9818-1743120000-1743206399@www.cais.org
SUMMARY:Preschool-5th Grade Parent Teacher Conferences (No School\, No Bus\, No Chaperoned Muni\, but Mini Camp is Available)
DESCRIPTION:
URL:https://www.cais.org/calendar/preschool-5th-grade-parent-teacher-conferences-no-school-mini-camp-available-2/
CATEGORIES:Schoolwide Events
END:VEVENT
BEGIN:VEVENT
DTSTART;VALUE=DATE:20250328
DTEND;VALUE=DATE:20250329
DTSTAMP:20260419T053238
CREATED:20231117T164802Z
LAST-MODIFIED:20231117T164802Z
UID:9819-1743120000-1743206399@www.cais.org
SUMMARY:6th-8th Grade Student Led Conferences (No School\, Mini Camp Available)
DESCRIPTION:
URL:https://www.cais.org/calendar/6th-8th-grade-student-led-conferences-no-school-mini-camp-available-4/
CATEGORIES:Schoolwide Events
END:VEVENT
END:VCALENDAR