BEGIN:VCALENDAR
VERSION:2.0
PRODID:-//CAIS - ECPv6.15.11//NONSGML v1.0//EN
CALSCALE:GREGORIAN
METHOD:PUBLISH
X-WR-CALNAME:CAIS
X-ORIGINAL-URL:https://www.cais.org
X-WR-CALDESC:Events for CAIS
REFRESH-INTERVAL;VALUE=DURATION:PT1H
X-Robots-Tag:noindex
X-PUBLISHED-TTL:PT1H
BEGIN:VTIMEZONE
TZID:America/Denver
BEGIN:DAYLIGHT
TZOFFSETFROM:-0700
TZOFFSETTO:-0600
TZNAME:MDT
DTSTART:20240310T090000
END:DAYLIGHT
BEGIN:STANDARD
TZOFFSETFROM:-0600
TZOFFSETTO:-0700
TZNAME:MST
DTSTART:20241103T080000
END:STANDARD
BEGIN:DAYLIGHT
TZOFFSETFROM:-0700
TZOFFSETTO:-0600
TZNAME:MDT
DTSTART:20250309T090000
END:DAYLIGHT
BEGIN:STANDARD
TZOFFSETFROM:-0600
TZOFFSETTO:-0700
TZNAME:MST
DTSTART:20251102T080000
END:STANDARD
BEGIN:DAYLIGHT
TZOFFSETFROM:-0700
TZOFFSETTO:-0600
TZNAME:MDT
DTSTART:20260308T090000
END:DAYLIGHT
BEGIN:STANDARD
TZOFFSETFROM:-0600
TZOFFSETTO:-0700
TZNAME:MST
DTSTART:20261101T080000
END:STANDARD
END:VTIMEZONE
BEGIN:VTIMEZONE
TZID:America/Los_Angeles
BEGIN:DAYLIGHT
TZOFFSETFROM:-0800
TZOFFSETTO:-0700
TZNAME:PDT
DTSTART:20240310T100000
END:DAYLIGHT
BEGIN:STANDARD
TZOFFSETFROM:-0700
TZOFFSETTO:-0800
TZNAME:PST
DTSTART:20241103T090000
END:STANDARD
BEGIN:DAYLIGHT
TZOFFSETFROM:-0800
TZOFFSETTO:-0700
TZNAME:PDT
DTSTART:20250309T100000
END:DAYLIGHT
BEGIN:STANDARD
TZOFFSETFROM:-0700
TZOFFSETTO:-0800
TZNAME:PST
DTSTART:20251102T090000
END:STANDARD
BEGIN:DAYLIGHT
TZOFFSETFROM:-0800
TZOFFSETTO:-0700
TZNAME:PDT
DTSTART:20260308T100000
END:DAYLIGHT
BEGIN:STANDARD
TZOFFSETFROM:-0700
TZOFFSETTO:-0800
TZNAME:PST
DTSTART:20261101T090000
END:STANDARD
END:VTIMEZONE
BEGIN:VEVENT
DTSTART;VALUE=DATE:20250704
DTEND;VALUE=DATE:20250705
DTSTAMP:20260419T085421
CREATED:20231117T165001Z
LAST-MODIFIED:20231117T165001Z
UID:9824-1751587200-1751673599@www.cais.org
SUMMARY:Independence Day (No Camp)
DESCRIPTION:
URL:https://www.cais.org/calendar/independence-day-no-camp/
CATEGORIES:Schoolwide Events
END:VEVENT
BEGIN:VEVENT
DTSTART;VALUE=DATE:20250707
DTEND;VALUE=DATE:20250708
DTSTAMP:20260419T085421
CREATED:20250523T161715Z
LAST-MODIFIED:20250523T161926Z
UID:13570-1751846400-1751932799@www.cais.org
SUMMARY:Catalog Posted for Fall 2025 Enrichment Afterschool Classes
DESCRIPTION:
URL:https://www.cais.org/calendar/catalog-posted-for-fall-enrichment-afterschool-classes/
CATEGORIES:Schoolwide Events
END:VEVENT
BEGIN:VEVENT
DTSTART;TZID=America/Los_Angeles:20250728T070000
DTEND;TZID=America/Los_Angeles:20250728T070000
DTSTAMP:20260419T085421
CREATED:20250522T201842Z
LAST-MODIFIED:20250523T162408Z
UID:13564-1753686000-1753686000@www.cais.org
SUMMARY:Registration Opens Online for Fall 2025 Enrichment Afterschool Classes
DESCRIPTION:
URL:https://www.cais.org/calendar/fall-enrichment-registration-opens-online-preschool-8th/
CATEGORIES:Schoolwide Events
END:VEVENT
END:VCALENDAR