BEGIN:VCALENDAR
VERSION:2.0
PRODID:-//CAIS - ECPv6.15.11//NONSGML v1.0//EN
CALSCALE:GREGORIAN
METHOD:PUBLISH
X-WR-CALNAME:CAIS
X-ORIGINAL-URL:https://www.cais.org
X-WR-CALDESC:Events for CAIS
REFRESH-INTERVAL;VALUE=DURATION:PT1H
X-Robots-Tag:noindex
X-PUBLISHED-TTL:PT1H
BEGIN:VTIMEZONE
TZID:America/Los_Angeles
BEGIN:DAYLIGHT
TZOFFSETFROM:-0800
TZOFFSETTO:-0700
TZNAME:PDT
DTSTART:20240310T100000
END:DAYLIGHT
BEGIN:STANDARD
TZOFFSETFROM:-0700
TZOFFSETTO:-0800
TZNAME:PST
DTSTART:20241103T090000
END:STANDARD
BEGIN:DAYLIGHT
TZOFFSETFROM:-0800
TZOFFSETTO:-0700
TZNAME:PDT
DTSTART:20250309T100000
END:DAYLIGHT
BEGIN:STANDARD
TZOFFSETFROM:-0700
TZOFFSETTO:-0800
TZNAME:PST
DTSTART:20251102T090000
END:STANDARD
BEGIN:DAYLIGHT
TZOFFSETFROM:-0800
TZOFFSETTO:-0700
TZNAME:PDT
DTSTART:20260308T100000
END:DAYLIGHT
BEGIN:STANDARD
TZOFFSETFROM:-0700
TZOFFSETTO:-0800
TZNAME:PST
DTSTART:20261101T090000
END:STANDARD
END:VTIMEZONE
BEGIN:VEVENT
DTSTART;VALUE=DATE:20250901
DTEND;VALUE=DATE:20250902
DTSTAMP:20260419T053636
CREATED:20250326T160428Z
LAST-MODIFIED:20250326T160428Z
UID:13245-1756684800-1756771199@www.cais.org
SUMMARY:Labor Day 2025 - No School\, No Bus/Muni\, No Childcare
DESCRIPTION:
URL:https://www.cais.org/calendar/labor-day-2025-no-school-no-bus-muni-no-childcare/
CATEGORIES:Schoolwide Events
END:VEVENT
BEGIN:VEVENT
DTSTART;VALUE=DATE:20250908
DTEND;VALUE=DATE:20250909
DTSTAMP:20260419T053636
CREATED:20250523T161504Z
LAST-MODIFIED:20250523T162300Z
UID:13566-1757289600-1757375999@www.cais.org
SUMMARY:First Day of Fall 2025 Enrichment Afterschool Classes
DESCRIPTION:
URL:https://www.cais.org/calendar/first-day-of-fall-enrichment-afterschool-classes/
CATEGORIES:Schoolwide Events
END:VEVENT
BEGIN:VEVENT
DTSTART;TZID=America/Los_Angeles:20250920T130000
DTEND;TZID=America/Los_Angeles:20250920T160000
DTSTAMP:20260419T053636
CREATED:20250605T211710Z
LAST-MODIFIED:20250605T215130Z
UID:13663-1758373200-1758384000@www.cais.org
SUMMARY:CAIS Hosting Mercy High School Alumnae Reunion
DESCRIPTION:
URL:https://www.cais.org/calendar/cais-hosting-mercy-high-school-alumnae-reunion/
LOCATION:3250 19th Avenue\, 3250 19th Avenue\, San Francisco\, CA\, 94132\, United States
CATEGORIES:Schoolwide Events
END:VEVENT
BEGIN:VEVENT
DTSTART;TZID=America/Los_Angeles:20250926T080000
DTEND;TZID=America/Los_Angeles:20250926T100000
DTSTAMP:20260419T053636
CREATED:20250827T222619Z
LAST-MODIFIED:20250827T222619Z
UID:13987-1758873600-1758880800@www.cais.org
SUMMARY:Parent Volunteer Appreciation Breakfast
DESCRIPTION:
URL:https://www.cais.org/calendar/parent-volunteer-appreciation-breakfast/
LOCATION:Chang Family Roof Deck\, 3250 19th Avenue\, San Francisco\, CA\, 94132\, United States
CATEGORIES:Schoolwide Events
END:VEVENT
BEGIN:VEVENT
DTSTART;TZID=America/Los_Angeles:20250929T190000
DTEND;TZID=America/Los_Angeles:20250929T203000
DTSTAMP:20260419T053636
CREATED:20250918T183225Z
LAST-MODIFIED:20250918T183225Z
UID:14163-1759172400-1759177800@www.cais.org
SUMMARY:Strategic Vision Input Session on Zoom
DESCRIPTION:
URL:https://www.cais.org/calendar/strategic-vision-input-session-on-zoom/
LOCATION:Zoom
CATEGORIES:Schoolwide Events
END:VEVENT
BEGIN:VEVENT
DTSTART;TZID=America/Los_Angeles:20250930T160000
DTEND;TZID=America/Los_Angeles:20250930T173000
DTSTAMP:20260419T053636
CREATED:20250918T183337Z
LAST-MODIFIED:20250918T183603Z
UID:14165-1759248000-1759253400@www.cais.org
SUMMARY:Strategic Vision Input Session on Campus
DESCRIPTION:
URL:https://www.cais.org/calendar/strategic-vision-input-session-on-zoom-2/
LOCATION:K-5th Grade Library (second floor)\, 3250 19th Avenue\, San Francisco\, CA\, 94132\, United States
CATEGORIES:Schoolwide Events
END:VEVENT
END:VCALENDAR