BEGIN:VCALENDAR
VERSION:2.0
PRODID:-//CAIS - ECPv6.15.11//NONSGML v1.0//EN
CALSCALE:GREGORIAN
METHOD:PUBLISH
X-WR-CALNAME:CAIS
X-ORIGINAL-URL:https://www.cais.org
X-WR-CALDESC:Events for CAIS
REFRESH-INTERVAL;VALUE=DURATION:PT1H
X-Robots-Tag:noindex
X-PUBLISHED-TTL:PT1H
BEGIN:VTIMEZONE
TZID:America/Los_Angeles
BEGIN:DAYLIGHT
TZOFFSETFROM:-0800
TZOFFSETTO:-0700
TZNAME:PDT
DTSTART:20250309T100000
END:DAYLIGHT
BEGIN:STANDARD
TZOFFSETFROM:-0700
TZOFFSETTO:-0800
TZNAME:PST
DTSTART:20251102T090000
END:STANDARD
BEGIN:DAYLIGHT
TZOFFSETFROM:-0800
TZOFFSETTO:-0700
TZNAME:PDT
DTSTART:20260308T100000
END:DAYLIGHT
BEGIN:STANDARD
TZOFFSETFROM:-0700
TZOFFSETTO:-0800
TZNAME:PST
DTSTART:20261101T090000
END:STANDARD
BEGIN:DAYLIGHT
TZOFFSETFROM:-0800
TZOFFSETTO:-0700
TZNAME:PDT
DTSTART:20270314T100000
END:DAYLIGHT
BEGIN:STANDARD
TZOFFSETFROM:-0700
TZOFFSETTO:-0800
TZNAME:PST
DTSTART:20271107T090000
END:STANDARD
END:VTIMEZONE
BEGIN:VEVENT
DTSTART;VALUE=DATE:20260101
DTEND;VALUE=DATE:20260103
DTSTAMP:20260421T015429
CREATED:20250326T183402Z
LAST-MODIFIED:20250326T183402Z
UID:13319-1767225600-1767398399@www.cais.org
SUMMARY:Winter Holiday Break 2025-2026 (No School\, No Childcare)
DESCRIPTION:
URL:https://www.cais.org/calendar/winter-holiday-break-2025-2026-no-school-no-childcare/
CATEGORIES:Schoolwide Events
END:VEVENT
BEGIN:VEVENT
DTSTART;TZID=America/Los_Angeles:20260106T084500
DTEND;TZID=America/Los_Angeles:20260106T101500
DTSTAMP:20260421T015429
CREATED:20250902T223240Z
LAST-MODIFIED:20250902T223240Z
UID:14028-1767689100-1767694500@www.cais.org
SUMMARY:Tour for K-5th Grade Applicants
DESCRIPTION:
URL:https://www.cais.org/calendar/tour-for-k-5th-grade-applicants-7/
LOCATION:3250 19th Avenue\, 3250 19th Avenue\, San Francisco\, CA\, 94132\, United States
CATEGORIES:Admission Event
END:VEVENT
BEGIN:VEVENT
DTSTART;TZID=America/Los_Angeles:20260107T084500
DTEND;TZID=America/Los_Angeles:20260107T101500
DTSTAMP:20260421T015429
CREATED:20250902T222053Z
LAST-MODIFIED:20250902T222053Z
UID:14004-1767775500-1767780900@www.cais.org
SUMMARY:Tour for Preschool Applicants
DESCRIPTION:
URL:https://www.cais.org/calendar/tour-for-preschool-applicants-5/
LOCATION:3250 19th Avenue\, 3250 19th Avenue\, San Francisco\, CA\, 94132\, United States
CATEGORIES:Admission Event
END:VEVENT
BEGIN:VEVENT
DTSTART;TZID=America/Los_Angeles:20260108T090000
DTEND;TZID=America/Los_Angeles:20260108T094500
DTSTAMP:20260421T015429
CREATED:20251021T223116Z
LAST-MODIFIED:20251021T223116Z
UID:14357-1767862800-1767865500@www.cais.org
SUMMARY:Little Firedragons Playgroup
DESCRIPTION:
URL:https://www.cais.org/calendar/little-firedragons-playgroup-4/
LOCATION:3250 19th Ave\, San Francisco\, CA 94132\, 3250 19th Ave\, San Francisco\, CA 94132\, San Francisco\, CA\, United States
CATEGORIES:Admission Event
END:VEVENT
BEGIN:VEVENT
DTSTART;TZID=America/Los_Angeles:20260109T090000
DTEND;TZID=America/Los_Angeles:20260109T100000
DTSTAMP:20260421T015429
CREATED:20250902T223453Z
LAST-MODIFIED:20250902T223453Z
UID:14034-1767949200-1767952800@www.cais.org
SUMMARY:Tour for Middle School Applicants
DESCRIPTION:
URL:https://www.cais.org/calendar/tour-for-middle-school-applicants-2/
LOCATION:3250 19th Avenue\, 3250 19th Avenue\, San Francisco\, CA\, 94132\, United States
CATEGORIES:Admission Event
END:VEVENT
BEGIN:VEVENT
DTSTART;VALUE=DATE:20260112
DTEND;VALUE=DATE:20260113
DTSTAMP:20260421T015429
CREATED:20250523T162207Z
LAST-MODIFIED:20250523T162207Z
UID:13577-1768176000-1768262399@www.cais.org
SUMMARY:First Day of Spring 2026 Enrichment Afterschool Classes
DESCRIPTION:
URL:https://www.cais.org/calendar/first-day-of-spring-2026-enrichment-afterschool-classes/
CATEGORIES:Schoolwide Events
END:VEVENT
BEGIN:VEVENT
DTSTART;TZID=America/Los_Angeles:20260112T084500
DTEND;TZID=America/Los_Angeles:20260112T100000
DTSTAMP:20260421T015429
CREATED:20251104T184521Z
LAST-MODIFIED:20251104T184622Z
UID:14493-1768207500-1768212000@www.cais.org
SUMMARY:CAIS Parent Ed on Math & Literacy (K-2nd)
DESCRIPTION:
URL:https://www.cais.org/calendar/cais-parent-ed-on-math-literacy-k-2nd/
CATEGORIES:Schoolwide Events
END:VEVENT
BEGIN:VEVENT
DTSTART;TZID=America/Los_Angeles:20260114T090000
DTEND;TZID=America/Los_Angeles:20260114T094500
DTSTAMP:20260421T015429
CREATED:20251021T223132Z
LAST-MODIFIED:20251021T223132Z
UID:14359-1768381200-1768383900@www.cais.org
SUMMARY:Little Firedragons Playgroup
DESCRIPTION:
URL:https://www.cais.org/calendar/little-firedragons-playgroup-5/
LOCATION:3250 19th Ave\, San Francisco\, CA 94132\, 3250 19th Ave\, San Francisco\, CA 94132\, San Francisco\, CA\, United States
CATEGORIES:Admission Event
END:VEVENT
BEGIN:VEVENT
DTSTART;TZID=America/Los_Angeles:20260115T084500
DTEND;TZID=America/Los_Angeles:20260115T101500
DTSTAMP:20260421T015429
CREATED:20250902T223305Z
LAST-MODIFIED:20251023T142044Z
UID:14030-1768466700-1768472100@www.cais.org
SUMMARY:Tour for Preschool Applicants
DESCRIPTION:
URL:https://www.cais.org/calendar/tour-for-k-5th-grade-applicants-8/
LOCATION:3250 19th Avenue\, 3250 19th Avenue\, San Francisco\, CA\, 94132\, United States
CATEGORIES:Admission Event
END:VEVENT
BEGIN:VEVENT
DTSTART;VALUE=DATE:20260116
DTEND;VALUE=DATE:20260117
DTSTAMP:20260421T015429
CREATED:20250813T214303Z
LAST-MODIFIED:20250813T214303Z
UID:13825-1768521600-1768607999@www.cais.org
SUMMARY:Admission Application Deadline for 2026-2027
DESCRIPTION:
URL:https://www.cais.org/calendar/admission-application-deadline-for-2026-2027/
CATEGORIES:Admission Event
END:VEVENT
BEGIN:VEVENT
DTSTART;TZID=America/Los_Angeles:20260116T084500
DTEND;TZID=America/Los_Angeles:20260116T100000
DTSTAMP:20260421T015429
CREATED:20251104T184740Z
LAST-MODIFIED:20251104T184740Z
UID:14497-1768553100-1768557600@www.cais.org
SUMMARY:CAIS Parent Ed on Math & Literacy (3rd-5th)
DESCRIPTION:
URL:https://www.cais.org/calendar/cais-parent-ed-on-math-literacy-3rd-5th/
CATEGORIES:Schoolwide Events
END:VEVENT
BEGIN:VEVENT
DTSTART;VALUE=DATE:20260119
DTEND;VALUE=DATE:20260120
DTSTAMP:20260421T015429
CREATED:20250326T171135Z
LAST-MODIFIED:20250326T171135Z
UID:13272-1768780800-1768867199@www.cais.org
SUMMARY:Martin Luther King Jr Day - No School\, No Childcare
DESCRIPTION:
URL:https://www.cais.org/calendar/martin-luther-king-jr-day-no-school-no-childcare-3/
CATEGORIES:Schoolwide Events
END:VEVENT
BEGIN:VEVENT
DTSTART;TZID=America/Los_Angeles:20260120T090000
DTEND;TZID=America/Los_Angeles:20260120T094500
DTSTAMP:20260421T015429
CREATED:20251212T000751Z
LAST-MODIFIED:20251212T000751Z
UID:14704-1768899600-1768902300@www.cais.org
SUMMARY:MS Tour for CAIS 4th/5th Grade Parents
DESCRIPTION:
URL:https://www.cais.org/calendar/ms-tour-for-cais-4th-5th-grade-parents/
LOCATION:Hong Yen Chang Learning Center\, 3250 19th Avenue\, San Francisco\, CA\, 94132\, United States
CATEGORIES:Lower School Event
END:VEVENT
BEGIN:VEVENT
DTSTART;TZID=America/Los_Angeles:20260121T090000
DTEND;TZID=America/Los_Angeles:20260121T094500
DTSTAMP:20260421T015429
CREATED:20251021T223149Z
LAST-MODIFIED:20251021T223856Z
UID:14361-1768986000-1768988700@www.cais.org
SUMMARY:Little Firedragons Playgroup
DESCRIPTION:
URL:https://www.cais.org/calendar/little-firedragons-playgroup-6/
LOCATION:3250 19th Ave\, San Francisco\, CA 94132\, 3250 19th Ave\, San Francisco\, CA 94132\, San Francisco\, CA\, United States
CATEGORIES:Admission Event
END:VEVENT
BEGIN:VEVENT
DTSTART;TZID=America/Los_Angeles:20260128T083000
DTEND;TZID=America/Los_Angeles:20260128T153000
DTSTAMP:20260421T015429
CREATED:20251111T173304Z
LAST-MODIFIED:20251111T173304Z
UID:14551-1769589000-1769614200@www.cais.org
SUMMARY:Preschool Messy Art Day
DESCRIPTION:
URL:https://www.cais.org/calendar/preschool-messy-art-day-2/
LOCATION:Park Chow Courtyard\, 3250 19th Avenue\, San Francisco\, CA\, 94132\, United States
CATEGORIES:Early Childhood Center Event
END:VEVENT
END:VCALENDAR